BEGIN:VCALENDAR
VERSION:2.0
PRODID:spatie/icalendar-generator
DESCRIPTION:Events from Bay de Noc Kennel Club
X-WR-CALDESC:Events from Bay de Noc Kennel Club
REFRESH-INTERVAL;VALUE=DURATION:PT1440M
X-PUBLISHED-TTL:PT1440M
BEGIN:VTIMEZONE
TZID:Etc/GMT+5
BEGIN:STANDARD
DTSTART:20250724T190000Z
TZOFFSETFROM:-0500
TZOFFSETTO:-0500
END:STANDARD
END:VTIMEZONE
BEGIN:VTIMEZONE
TZID:UTC
BEGIN:STANDARD
DTSTART:20250727T150109Z
TZOFFSETFROM:+0000
TZOFFSETTO:+0000
END:STANDARD
END:VTIMEZONE
BEGIN:VEVENT
UID:12943-1792
DTSTAMP:20260423T150109Z
SUMMARY:Club Meeting
LOCATION:Building
ORGANIZER;CN=BDNKC:MAILTO:baydenockennelclub@gmail.com
RRULE:FREQ=MONTHLY;BYDAY=3MO;UNTIL=20301216T000000Z
DTSTART;TZID=Etc/GMT+5:20260420T190000
DTEND;TZID=Etc/GMT+5:20260420T200000
X-ALT-DESC;FMTTYPE=TEXT/HTML:
CATEGORIES:Meetings
URL;VALUE=URI:https://baydenockennelclub.com/mc-events/club-meeting/?mc_id=
 12943
METHOD:PUBLISH
END:VEVENT
END:VCALENDAR