BEGIN:VCALENDAR
VERSION:2.0
PRODID:spatie/icalendar-generator
DESCRIPTION:Events from Bay de Noc Kennel Club
X-WR-CALDESC:Events from Bay de Noc Kennel Club
REFRESH-INTERVAL;VALUE=DURATION:PT1440M
X-PUBLISHED-TTL:PT1440M
BEGIN:VTIMEZONE
TZID:Etc/GMT+5
BEGIN:STANDARD
DTSTART:20250729T100000Z
TZOFFSETFROM:-0500
TZOFFSETTO:-0500
END:STANDARD
END:VTIMEZONE
BEGIN:VTIMEZONE
TZID:UTC
BEGIN:STANDARD
DTSTART:20250727T164541Z
TZOFFSETFROM:+0000
TZOFFSETTO:+0000
END:STANDARD
END:VTIMEZONE
BEGIN:VEVENT
UID:16744-2232
DTSTAMP:20260423T164541Z
SUMMARY:CPE Speedway Trial
LOCATION:Building
ORGANIZER;CN=Lori Genaw:MAILTO:lorilee.g@charter.net
DTSTART;TZID=Etc/GMT+5:20260425T100000
DTEND;TZID=Etc/GMT+5:20260425T170000
X-ALT-DESC;FMTTYPE=TEXT/HTML:
CATEGORIES:Trials/Fun match
URL;VALUE=URI:https://baydenockennelclub.com/mc-events/cpe-speedway-trial-7
 /
METHOD:PUBLISH
END:VEVENT
END:VCALENDAR