BEGIN:VCALENDAR
VERSION:2.0
PRODID:spatie/icalendar-generator
DESCRIPTION:Events from Bay de Noc Kennel Club
X-WR-CALDESC:Events from Bay de Noc Kennel Club
REFRESH-INTERVAL;VALUE=DURATION:PT1440M
X-PUBLISHED-TTL:PT1440M
BEGIN:VTIMEZONE
TZID:Etc/GMT+5
BEGIN:STANDARD
DTSTART:20250720T183000Z
TZOFFSETFROM:-0500
TZOFFSETTO:-0500
END:STANDARD
END:VTIMEZONE
BEGIN:VTIMEZONE
TZID:UTC
BEGIN:STANDARD
DTSTART:20250727T150533Z
TZOFFSETFROM:+0000
TZOFFSETTO:+0000
END:STANDARD
END:VTIMEZONE
BEGIN:VEVENT
UID:17199-2280
DTSTAMP:20260423T150533Z
SUMMARY:Basic Obedience Class
LOCATION:Building
ORGANIZER;CN=Sue Parker:MAILTO:suzie_dia@yahoo.com
RRULE:FREQ=WEEKLY;UNTIL=20260417T000000Z
DTSTART;TZID=Etc/GMT+5:20260416T183000
DTEND;TZID=Etc/GMT+5:20260416T193000
X-ALT-DESC;FMTTYPE=TEXT/HTML:
CATEGORIES:Classes
URL;VALUE=URI:https://baydenockennelclub.com/mc-events/basic-obedience-clas
 s-20/?mc_id=17199
METHOD:PUBLISH
END:VEVENT
END:VCALENDAR