BEGIN:VCALENDAR
VERSION:2.0
PRODID:spatie/icalendar-generator
DESCRIPTION:Events from Bay de Noc Kennel Club
X-WR-CALDESC:Events from Bay de Noc Kennel Club
REFRESH-INTERVAL;VALUE=DURATION:PT1440M
X-PUBLISHED-TTL:PT1440M
BEGIN:VTIMEZONE
TZID:Etc/GMT+5
BEGIN:STANDARD
DTSTART:20250704T190000Z
TZOFFSETFROM:-0500
TZOFFSETTO:-0500
END:STANDARD
END:VTIMEZONE
BEGIN:VTIMEZONE
TZID:UTC
BEGIN:STANDARD
DTSTART:20250727T150231Z
TZOFFSETFROM:+0000
TZOFFSETTO:+0000
END:STANDARD
END:VTIMEZONE
BEGIN:VEVENT
UID:17369-2262
DTSTAMP:20260423T150231Z
SUMMARY:FOUNDATIONS SERIES CLASSES
LOCATION:Building
ORGANIZER;CN=Lori Genaw:MAILTO:lorilee.g@charter.net
RRULE:FREQ=WEEKLY;UNTIL=20260527T000000Z
DTSTART;TZID=Etc/GMT+5:20260331T190000
DTEND;TZID=Etc/GMT+5:20260331T200000
X-ALT-DESC;FMTTYPE=TEXT/HTML:<p>Agility Foundations SERIES</p>\n
CATEGORIES:Classes
URL;VALUE=URI:https://baydenockennelclub.com/mc-events/foundations-series-c
 lasses/?mc_id=17369
METHOD:PUBLISH
END:VEVENT
END:VCALENDAR