BEGIN:VCALENDAR
VERSION:2.0
PRODID:spatie/icalendar-generator
DESCRIPTION:Events from Bay de Noc Kennel Club
X-WR-CALDESC:Events from Bay de Noc Kennel Club
REFRESH-INTERVAL;VALUE=DURATION:PT1440M
X-PUBLISHED-TTL:PT1440M
BEGIN:VTIMEZONE
TZID:Etc/GMT+5
BEGIN:STANDARD
DTSTART:20250705T200000Z
TZOFFSETFROM:-0500
TZOFFSETTO:-0500
END:STANDARD
END:VTIMEZONE
BEGIN:VTIMEZONE
TZID:UTC
BEGIN:STANDARD
DTSTART:20250727T150332Z
TZOFFSETFROM:+0000
TZOFFSETTO:+0000
END:STANDARD
END:VTIMEZONE
BEGIN:VEVENT
UID:16726-2224
DTSTAMP:20260423T150332Z
SUMMARY:Intermediate Class
LOCATION:Building
ORGANIZER;CN=Jill Connolly:MAILTO:jill_connolly@yahoo.com
DTSTART;TZID=Etc/GMT+5:20260401T200000
DTEND;TZID=Etc/GMT+5:20260401T210000
X-ALT-DESC;FMTTYPE=TEXT/HTML:<p>Intermediate Class</p>\n
CATEGORIES:Classes
URL;VALUE=URI:https://baydenockennelclub.com/mc-events/intermediate-class/
METHOD:PUBLISH
END:VEVENT
END:VCALENDAR